BEGIN:VCALENDAR
VERSION:2.0
PRODID:-//wp-events-plugin.com//7.2.3.1//EN
TZID:America/Chicago
X-WR-TIMEZONE:America/Chicago
BEGIN:VEVENT
UID:1-710@jbs.org
DTSTART;TZID=America/Denver:20241114T180000
DTEND;TZID=America/Denver:20241114T193000
DTSTAMP:20241003T190200Z
URL:https://jbs.org/events/live-zoom-webinar-with-pastor-matthew-trewhella
 -on-the-doctrine-of-the-lesser-magistrates-part-ii/
SUMMARY:Live Zoom Webinar With Pastor Matthew Trewhella on “The Doctrine 
 of the Lesser Magistrates” Part II
DESCRIPTION:Live Zoom Webinar With Pastor Matthew Trewhella on “The Doctr
 ine of the Lesser Magistrates” Part II\nLive Q&amp\;A to follow presenta
 tion.\n\n\n\n\nJoin us as Pastor Matt Trewhella continues teaching on this
  vital topic in a part-two event. He will delve deeper into the doctrine o
 f the lesser magistrates. This doctrine offers proven guidelines for legit
 imate resistance to tyranny\, often without causing significant upheaval i
 n society. In this presentation\, Pastor Trewhella will discuss how we can
  hold lawless government actions in check and restore justice in our natio
 n\, providing multiple examples of officials who have successfully done so
 .\n\nDate: Thursday\, November 14\, 2024\n\nTime: 5pm PT/6pm MT/7pm CT/8
 pm ET\n\nZoom registration link: https://us06web.zoom.us/webinar/register/
 WN_ttNcZ6-_R2-Xlqtp14H8KQ\n\nWebinar ID: 854 6784 4954\n\nQuestions: Cont
 act SpeakersBureau@jbs.org or (920)749-3780. Office hours: 8AM - 5PM CT\, 
 Monday - Friday.\n\nThis webinar is brought to you by the Mesa\, AZ\, and 
 North County San Diego\, CA\, Chapters of The John Birch Society.\n\n**Aft
 er registering\, you will receive a confirmation email from Zoom about the
  webinar. Please check your junk or spam folder if you do not get the conf
 irmation email right away.**
ATTACH;FMTTYPE=image/jpeg:https://jbs.org/assets/sites/1/2024/1080x1080-2.
 jpg
CATEGORIES:Virtual Events
LOCATION:https://us06web.zoom.us/webinar/register/WN_ttNcZ6-_R2-Xlqtp14H8KQ
END:VEVENT
BEGIN:VTIMEZONE
TZID:America/Denver
X-LIC-LOCATION:America/Denver
BEGIN:STANDARD
DTSTART:20241103T010000
TZOFFSETFROM:-0600
TZOFFSETTO:-0700
TZNAME:MST
END:STANDARD
END:VTIMEZONE
END:VCALENDAR